BEGIN:VCALENDAR
VERSION:2.0
PRODID:-//Strefa Serca - ECPv6.15.20//NONSGML v1.0//EN
CALSCALE:GREGORIAN
METHOD:PUBLISH
X-ORIGINAL-URL:https://dev.strefaserca.com
X-WR-CALDESC:Wydarzenia dla Strefa Serca
REFRESH-INTERVAL;VALUE=DURATION:PT1H
X-Robots-Tag:noindex
X-PUBLISHED-TTL:PT1H
BEGIN:VTIMEZONE
TZID:UTC
BEGIN:STANDARD
TZOFFSETFROM:+0000
TZOFFSETTO:+0000
TZNAME:UTC
DTSTART:20240101T000000
END:STANDARD
END:VTIMEZONE
BEGIN:VEVENT
DTSTART;TZID=UTC:20251226T080000
DTEND;TZID=UTC:20251226T170000
DTSTAMP:20260420T010700
CREATED:20260221T120853Z
LAST-MODIFIED:20260221T121410Z
UID:1861-1766736000-1766768400@dev.strefaserca.com
SUMMARY:A PO PIEROGACH ŚPIEWALIŚMY KOLĘDY VOL 7
DESCRIPTION:A PO PIEROGACH ŚPIEWALIŚMY KOLĘDY VOL 7\n\n\n\n\n\n\n\n\n\n\n\nTo już dziś! – Premiera naszego autorskiego utworu świątecznego. Po wielu miesiącach pracy\, modlitwy i wspólnego szukania właściwych brzmień możemy w końcu podzielić się z Wami czymś bardzo dla nas ważnym. \n\n\n\nSzczególne podziękowania ślemy do: \n\n\n\n▪︎Parafia Św. Maksymiliana M. Kolbego na czele z proboszczem o. Marcinem Kowalewskim CMF za możliwość nagrania klipu w kościele oraz za wszelką pomoc i wsparcie! \n\n\n\n▪︎ Grzegorza Michałowskiego za udostępnienie sali i sprzętu do rejestracji perkusji \n\n\n\n▪︎Mania Studio za możliwość rejestracji wokali \n\n\n\n▪︎ Dawida Chamskiego za udostępnienie oświetlenia \n\n\n\nZapraszamy\, byście posłuchali i pozwolili\, aby ten utwór stał się częścią Waszego oczekiwania.
URL:https://dev.strefaserca.com/wydarzenia/a-po-pierogach-spiewalismy-koledy-vol-7/
LOCATION:Płock\, Tadeusza Kościuszki 16\, Płock\, mazowieckie\, 09-402
CATEGORIES:Wydarzenie
END:VEVENT
BEGIN:VEVENT
DTSTART;TZID=UTC:20260406T080000
DTEND;TZID=UTC:20260406T170000
DTSTAMP:20260420T010700
CREATED:20260221T121310Z
LAST-MODIFIED:20260221T121335Z
UID:1866-1775462400-1775494800@dev.strefaserca.com
SUMMARY:KONCERT O MIŁOŚCI VOL. 5
DESCRIPTION:KONCERT O MIŁOŚCI VOL. 5\n\n\n\n\n\n\n\n\n\n\n\nTo już dziś! – Premiera naszego autorskiego utworu świątecznego. Po wielu miesiącach pracy\, modlitwy i wspólnego szukania właściwych brzmień możemy w końcu podzielić się z Wami czymś bardzo dla nas ważnym. \n\n\n\nSzczególne podziękowania ślemy do: \n\n\n\n▪︎Parafia Św. Maksymiliana M. Kolbego na czele z proboszczem o. Marcinem Kowalewskim CMF za możliwość nagrania klipu w kościele oraz za wszelką pomoc i wsparcie! \n\n\n\n▪︎ Grzegorza Michałowskiego za udostępnienie sali i sprzętu do rejestracji perkusji \n\n\n\n▪︎Mania Studio za możliwość rejestracji wokali \n\n\n\n▪︎ Dawida Chamskiego za udostępnienie oświetlenia \n\n\n\nZapraszamy\, byście posłuchali i pozwolili\, aby ten utwór stał się częścią Waszego oczekiwania.
URL:https://dev.strefaserca.com/wydarzenia/koncert-o-milosci-vol-5/
LOCATION:Płock\, Tadeusza Kościuszki 16\, Płock\, mazowieckie\, 09-402
CATEGORIES:Wydarzenie
END:VEVENT
BEGIN:VEVENT
DTSTART;TZID=UTC:20260604T080000
DTEND;TZID=UTC:20260604T170000
DTSTAMP:20260420T010700
CREATED:20260221T121546Z
LAST-MODIFIED:20260221T121547Z
UID:1869-1780560000-1780592400@dev.strefaserca.com
SUMMARY:FESTIWAL NA SCHODACH VOL.5
DESCRIPTION:FESTIWAL NA SCHODACH VOL.5\n\n\n\n\n\n\n\n\n\n\n\nTo już dziś! – Premiera naszego autorskiego utworu świątecznego. Po wielu miesiącach pracy\, modlitwy i wspólnego szukania właściwych brzmień możemy w końcu podzielić się z Wami czymś bardzo dla nas ważnym. \n\n\n\nSzczególne podziękowania ślemy do: \n\n\n\n▪︎Parafia Św. Maksymiliana M. Kolbego na czele z proboszczem o. Marcinem Kowalewskim CMF za możliwość nagrania klipu w kościele oraz za wszelką pomoc i wsparcie! \n\n\n\n▪︎ Grzegorza Michałowskiego za udostępnienie sali i sprzętu do rejestracji perkusji \n\n\n\n▪︎Mania Studio za możliwość rejestracji wokali \n\n\n\n▪︎ Dawida Chamskiego za udostępnienie oświetlenia \n\n\n\nZapraszamy\, byście posłuchali i pozwolili\, aby ten utwór stał się częścią Waszego oczekiwania.
URL:https://dev.strefaserca.com/wydarzenia/festiwal-na-schodach-vol-5/
LOCATION:Płock\, Tadeusza Kościuszki 16\, Płock\, mazowieckie\, 09-402
CATEGORIES:Wydarzenie
END:VEVENT
END:VCALENDAR